{"text_format":"1","workbook":"xlsx","n_sheets":3,"sheets":["Feuil1","Feuil2","Feuille1"],"not_rendered":{"charts":2,"images":0,"macros":1,"external_links":0,"defined_names":0,"comments":0,"pivot_tables":0},"unopened":[],"bounds":{"document_bytes":16777216,"sheet_cells":100000,"rows_first":2000,"rows_last":500,"rows_between":2000,"halvings":0,"cell_chars":16384,"cell_head_chars":4096},"cells_cut":0,"cells_raw":0,"read":"whole","date_system":"1900"}

{"sheet":"Feuil1","index":0,"n_rows":40,"n_cols":4,"rows_kept":40,"cut":false,"hidden":true,"merged":[]}
["ponts",{"$f":"Feuil2!G32","v":1},{"$f":"Feuil2!H32","v":1},"phase(t)"]
["phases",{"$f":"Feuil2!G33","v":0.01},{"$f":"Feuil2!H33","v":0},0]
[null,"X","Y"]
[0,{"$f":"COS((B$1*$A4-B$2-D$2)*PI()/180)","v":0.9999999847691291},{"$f":"COS((C$1*$A4-C$2-D$2)*PI()/180)","v":1}]
[10,{"$f":"COS((B$1*$A5-B$2-D$2)*PI()/180)","v":0.98483804533697816},{"$f":"COS((C$1*$A5-C$2-D$2)*PI()/180)","v":0.98480775301220802}]
[20,0.93975230024936007,0.93969262078590843]
[30,0.86611265705627416,0.86602540378443871]
[40,0.76615661905268495,0.76604444311897801]
[50,0.64292129987313562,0.64278760968653936]
[60,0.5001511423308167,0.50000000000000011]
[70,0.34218414541746556,0.34202014332566882]
[80,0.17382005639913709,0.17364817766693041]
[90,1.7453292431360924E-4,6.1257422745431001E-17]
[100,-0.17347629364509745,-0.1736481776669303]
[110,-0.34185613081534244,-0.34202014332566871]
[120,-0.49984884243831218,-0.49999999999999978]
[130,-0.64265389991951272,-0.64278760968653936]
[140,-0.76593224385022318,-0.7660444431189779]
[150,-0.86593812413196081,-0.86602540378443871]
[160,-0.9396329126977826,-0.93969262078590832]
[170,-0.98477743068847834,-0.98480775301220802]
[180,-0.9999999847691291,-1]
[190,-0.98483804533697816,-0.98480775301220802]
[200,-0.93975230024936007,-0.93969262078590843]
[210,-0.86611265705627427,-0.8660254037844386]
[220,-0.76615661905268495,-0.76604444311897801]
[230,-0.64292129987313595,-0.64278760968653947]
[240,-0.50015114233081703,-0.50000000000000044]
[250,-0.34218414541746528,-0.34202014332566938]
[260,-0.173820056399137,-0.17364817766693033]
[270,-1.7453292431350971E-4,-1.83772268236293E-16]
[280,0.17347629364509731,0.17364817766692997]
[290,0.34185613081534294,0.34202014332566816]
[300,0.49984884243831246,0.50000000000000011]
[310,0.64265389991951261,0.64278760968653925]
[320,0.7659322438502234,0.76604444311897779]
[330,0.86593812413196058,0.86602540378443837]
[340,0.93963291269778271,0.93969262078590843]
[350,0.98477743068847834,0.98480775301220791]
[360,0.9999999847691291,1]

{"sheet":"Feuil2","index":1,"n_rows":33,"n_cols":11,"rows_kept":33,"cut":false,"hidden":false,"merged":[]}
[]
[]
[]
[]
[]
[]
[]
[]
[]
[]
[]
[]
[]
[]
[]
[]
[]
[]
[]
[]
[]
[]
[]
[]
[]
[]
[]
[]
[null,null,null,null,null,null,null,null,null,"Angle",80]
[]
[null,null,null,null,null,null,"X","Y","Z","Arete",10]
[null,null,null,null,null,"Vecteur",1,1,1,"Alpha",9]
[null,null,null,null,null,"Pas de temps",0.01,null,null,"Eloignement",60]

{"sheet":"Feuille1","index":2,"n_rows":88,"n_cols":17,"rows_kept":88,"cut":false,"hidden":true,"merged":[]}
["angle",{"$f":"B70","v":80},"degres","D2"]
[null,null,null,null,"i","j","k",null,null,"Meilleure perp","Autre",null,"a","d","Bf-ec"]
[{"$f":"B72","v":1},"kx",{"$f":"A3/$A$7","v":0.57735026918962584},null,0,{"$f":"-C5","v":-0.57735026918962584},{"$f":"C4","v":0.57735026918962584},null,{"$f":"IF(E$9=1,E3,IF(F$9=1,F3,G3))","v":0},{"$f":"I3/SQRT(I$7)","v":0},{"$f":"-C4*J5+C5*J4","v":0.81649658092772615},null,"b","e","Cd-af"]
[{"$f":"B73","v":1},"ky",{"$f":"A4/$A$7","v":0.57735026918962584},null,{"$f":"C5","v":0.57735026918962584},0,{"$f":"-C3","v":-0.57735026918962584},null,{"$f":"IF(E$9=1,E4,IF(F$9=1,F4,G4))","v":0.57735026918962584},{"$f":"I4/SQRT(I$7)","v":0.70710678118654757},{"$f":"-C5*J3+C3*J5","v":-0.40824829046386307},null,"c","f","Ae-db"]
[{"$f":"B74","v":1},"kz",{"$f":"A5/$A$7","v":0.57735026918962584},null,{"$f":"-C4","v":-0.57735026918962584},{"$f":"C3","v":0.57735026918962584},0,null,{"$f":"IF(E$9=1,E5,IF(F$9=1,F5,G5))","v":-0.57735026918962584},{"$f":"I5/SQRT(I$7)","v":-0.70710678118654757},{"$f":"-C3*J4+C4*J3","v":-0.40824829046386307}]
[]
[{"$f":"SQRT(A3*A3+A4*A4+A5*A5)","v":1.7320508075688772},null,{"$f":"SQRT(C3*C3+C4*C4+C5*C5)","v":1},null,{"$f":"E3*E3+E4*E4+E5*E5","v":0.66666666666666685},{"$f":"F3*F3+F4*F4+F5*F5","v":0.66666666666666685},{"$f":"G3*G3+G4*G4+G5*G5","v":0.66666666666666685},null,{"$f":"I3*I3+I4*I4+I5*I5","v":0.66666666666666685},{"$f":"J3*J3+J4*J4+J5*J5","v":1.0000000000000002},{"$f":"K3*K3+K4*K4+K5*K5","v":1.0000000000000002}]
[]
[null,null,null,"rang",{"$f":"RANK(E7,$E7:$G7)","v":1},{"$f":"RANK(F7,$E7:$G7)","v":1},{"$f":"RANK(G7,$E7:$G7)","v":1}]
[]
["Matrice"]
[]
[{"$f":"K3","v":0.81649658092772615},{"$f":"J3","v":0},{"$f":"C3","v":0.57735026918962584},null,{"$f":"MINVERSE(A13:C15)","v":0.81649658092772603},-0.40824829046386296,-0.40824829046386296,"<---","inverse"]
[{"$f":"K4","v":-0.40824829046386307},{"$f":"J4","v":0.70710678118654757},{"$f":"C4","v":0.57735026918962584},null,0,0.70710678118654746,-0.70710678118654746]
[{"$f":"K5","v":-0.40824829046386307},{"$f":"J5","v":-0.70710678118654757},{"$f":"C5","v":0.57735026918962584},null,0.57735026918962562,0.57735026918962562,0.57735026918962562]
[]
[null,null,null,null,{"$f":"TRANSPOSE(A13:C15)","v":0.81649658092772615},-0.40824829046386307,-0.40824829046386307,"<---","transposee"]
[null,null,null,null,0,0.70710678118654757,-0.70710678118654757]
[null,null,null,null,0.57735026918962584,0.57735026918962584,0.57735026918962584]
[]
[null,null,null,null,{"$f":"E17-E13","v":0},0,0]
[null,null,"Inverse – transposee",null,0,0,0]
[null,null,null,null,0,0,0]
[]
[null,null,"X","Y","Z"]
["Sommet",1,0,0,0]
["Sommet",2,1,0,0]
["Sommet",3,1,0,1]
["Sommet",4,0,0,1]
["Sommet",5,0,1,0]
["Sommet",6,1,1,0]
["Sommet",7,1,1,1]
["Sommet",8,0,1,1,"F34 (vide ou pas)"]
[]
["centre",null,0.5,0.5,0.5]
[]
[]
["arete",{"$f":"B76","v":10},"cm"]
[null,"Sommet","X","Y","Z"]
[null,{"$f":"B26","v":1},{"$f":"(C26-C$35)*$B$38","v":-5},-5,-5]
[null,2,5,-5,-5]
[null,3,5,-5,5]
[null,4,-5,-5,5]
[null,5,-5,5,-5]
[null,6,5,5,-5]
[null,7,5,5,5]
[null,8,-5,5,5]
[]
[null,null,null,null,null,null,null,null,{"$f":"TRANSPOSE(B39:E47)","v":"Sommet"},1,2,3,4,5,6,7,8]
[null,null,null,null,null,null,null,null,"X",-5,5,5,-5,-5,5,5,-5]
[null,null,null,null,null,null,null,null,"Y",-5,-5,-5,-5,5,5,5,5]
[null,null,null,null,null,null,null,null,"Z",-5,-5,5,5,-5,-5,5,5]
[]
[]
["inverse",{"$f":"E17","v":0.81649658092772615},-0.40824829046386307,-0.40824829046386307,null,"cos",{"$f":"COS(B1*PI()/180)","v":0.17364817766693041},null,"suivant i",{"$f":"MMULT(B55:D57,J50:Q52)","v":0},8.1649658092772608,4.0824829046386295,-4.0824829046386304,-4.0824829046386295,4.0824829046386304,0,-8.1649658092772608]
[null,0,0.70710678118654757,-0.70710678118654757,null,"sin",{"$f":"SIN(B1*PI()/180)","v":0.98480775301220802},null,"suivant j",0,0,-7.0710678118654755,-7.0710678118654755,7.0710678118654755,7.0710678118654755,0,0]
[null,0.57735026918962584,0.57735026918962584,0.57735026918962584,null,null,null,null,"suivant k",-8.6602540378443873,-2.8867513459481291,2.8867513459481291,-2.8867513459481291,-2.8867513459481291,2.8867513459481291,8.6602540378443873,2.8867513459481291]
[]
[null,null,null,null,null,null,null,null,"Apres rotation X",{"$f":"J55*$G$55-J56*$G$56","v":0},1.41783143349379,7.6725581199470847,6.2547266864532949,-7.6725581199470847,-6.2547266864532949,0,-1.41783143349379]
[null,null,null,null,null,null,null,null,"Apres rotation Y",{"$f":"J56*$G$55+J55*$G$56","v":0},8.0409216320558432,2.7925827763381914,-5.2483388557176509,-2.7925827763381914,5.2483388557176509,0,-8.0409216320558432]
[null,null,null,null,null,null,null,null,null,{"$f":"J57","v":-8.6602540378443873},-2.8867513459481291,2.8867513459481291,-2.8867513459481291,-2.8867513459481291,2.8867513459481291,8.6602540378443873,2.8867513459481291]
[]
[]
["directe",{"$f":"A13","v":0.81649658092772615},0,0.57735026918962584,null,null,null,null,"suivant X",{"$f":"MMULT(B64:D66,J59:Q61)","v":-5.0000000000000009},-0.50901214888713064,7.9312841385727237,3.4402962874598542,-7.9312841385727237,-3.4402962874598542,5.0000000000000009,0.50901214888713064]
[null,-0.40824829046386307,0.70710678118654757,0.57735026918962584,null,null,null,null,"suivant Y",-5.0000000000000009,3.4402962874598533,0.50901214888712953,-7.9312841385727237,-0.50901214888712953,7.9312841385727237,5.0000000000000009,-3.4402962874598533]
[null,-0.40824829046386307,-0.70710678118654757,0.57735026918962584,null,null,null,null,"suivant Z",-5.0000000000000009,-7.9312841385727229,-3.4402962874598524,-0.50901214888713087,3.4402962874598524,0.50901214888713087,5.0000000000000009,7.9312841385727229]
[]
[null,null,null,null,null,null,null,null,"sommet",1,2,3,4,5,6,7,8]
[null,null,null,null,null,null,null,null,"x",{"$f":"$B$77*J64/(J$66+$B$78)","v":-0.81818181818181834},-8.7981991954172251E-2,1.2620567747303835,0.52045978232246626,-1.1251769210489075,-0.51170338909107682,0.6923076923076924,6.7437402340859501E-2]
["angle",{"$f":"Feuil2!K29","v":80},"degres",null,null,null,null,null,"y",-0.81818181818181834,0.59465009026804039,8.0995992540329798E-2,-1.1998717759705047,-7.2211348434223929E-2,1.1796847231865999,0.6923076923076924,-0.4557939244012828]
[]
["vecteur",{"$f":"Feuil2!G32","v":1},null,null,null,null,null,null,{"$f":"TRANSPOSE(I68:Q70)","v":"sommet"},"x","y",null,"liste des liaisons",null,"X","Y"]
[null,{"$f":"Feuil2!H32","v":1},null,null,null,null,null,null,1,-0.81818181818181834,-0.81818181818181834,null,1,null,{"$f":"J73","v":-0.81818181818181834},-0.81818181818181834]
[null,{"$f":"Feuil2!I32","v":1},null,null,null,null,null,null,2,-8.7981991954172251E-2,0.59465009026804039,null,2,null,-8.7981991954172251E-2,0.59465009026804039]
[null,null,null,null,null,null,null,null,3,1.2620567747303835,8.0995992540329798E-2,null,3,null,1.2620567747303835,8.0995992540329798E-2]
["arete",{"$f":"Feuil2!K31","v":10},"cm",null,null,null,null,null,4,0.52045978232246626,-1.1998717759705047,null,4,null,0.52045978232246626,-1.1998717759705047]
["alpha",{"$f":"Feuil2!K32","v":9},"cm",null,null,null,null,null,5,-1.1251769210489075,-7.2211348434223929E-2,null,1,null,{"$f":"J73","v":-0.81818181818181834},{"$f":"K73","v":-0.81818181818181834}]
["Eloignement Z",{"$f":"Feuil2!K33","v":60},"cm",null,null,null,null,null,6,-0.51170338909107682,1.1796847231865999,null,5,null,{"$f":"J77","v":-1.1251769210489075},-7.2211348434223929E-2]
[null,null,null,null,null,null,null,null,7,0.6923076923076924,0.6923076923076924,null,6,null,-0.51170338909107682,1.1796847231865999]
[null,null,null,null,null,null,null,null,8,6.7437402340859501E-2,-0.4557939244012828,null,7,null,0.6923076923076924,0.6923076923076924]
[null,null,null,null,null,null,null,null,null,null,null,null,8,null,6.7437402340859501E-2,-0.4557939244012828]
[null,null,null,null,null,null,null,null,null,null,null,null,5,null,{"$f":"J77","v":-1.1251769210489075},{"$f":"K77","v":-7.2211348434223929E-2}]
[null,null,null,null,null,null,null,null,null,null,null,null,6,null,{"$f":"J78","v":-0.51170338909107682},{"$f":"K78","v":1.1796847231865999}]
[null,null,null,null,null,null,null,null,null,null,null,null,2,null,{"$f":"J74","v":-8.7981991954172251E-2},{"$f":"K74","v":0.59465009026804039}]
[null,null,null,null,null,null,null,null,null,null,null,null,3,null,{"$f":"J75","v":1.2620567747303835},{"$f":"K75","v":8.0995992540329798E-2}]
[null,null,null,null,null,null,null,null,null,null,null,null,7,null,{"$f":"J79","v":0.6923076923076924},{"$f":"K79","v":0.6923076923076924}]
[null,null,null,null,null,null,null,null,null,null,null,null,8,null,{"$f":"J80","v":6.7437402340859501E-2},{"$f":"K80","v":-0.4557939244012828}]
[null,null,null,null,null,null,null,null,null,null,null,null,4,null,{"$f":"J76","v":0.52045978232246626},{"$f":"K76","v":-1.1998717759705047}]